BEGIN:VCALENDAR
VERSION:2.0
PRODID:-//Mosaic Classical Academy - ECPv5.16.4//NONSGML v1.0//EN
CALSCALE:GREGORIAN
METHOD:PUBLISH
X-WR-CALNAME:Mosaic Classical Academy
X-ORIGINAL-URL:https://mosaicclassical.org
X-WR-CALDESC:Events for Mosaic Classical Academy
BEGIN:VTIMEZONE
TZID:America/New_York
BEGIN:DAYLIGHT
TZOFFSETFROM:-0500
TZOFFSETTO:-0400
TZNAME:EDT
DTSTART:20260308T070000
END:DAYLIGHT
BEGIN:STANDARD
TZOFFSETFROM:-0400
TZOFFSETTO:-0500
TZNAME:EST
DTSTART:20261101T060000
END:STANDARD
END:VTIMEZONE
BEGIN:VEVENT
DTSTART;TZID=America/New_York:20260608T173000
DTEND;TZID=America/New_York:20260608T173000
DTSTAMP:20260421T132721
CREATED:20250808T191517Z
LAST-MODIFIED:20250808T191517Z
UID:36404-1780939800-1780939800@mosaicclassical.org
SUMMARY:Board Meeting
DESCRIPTION:
URL:https://mosaicclassical.org/event/board-meeting-10/
LOCATION:Mosaic Classical Academy\, 872 Orchard St.\, Toledo\, OH\, 43609
CATEGORIES:Calendar Only,School Board
END:VEVENT
END:VCALENDAR