BEGIN:VCALENDAR
VERSION:2.0
PRODID:-//Mosaic Classical Academy - ECPv5.16.4//NONSGML v1.0//EN
CALSCALE:GREGORIAN
METHOD:PUBLISH
X-WR-CALNAME:Mosaic Classical Academy
X-ORIGINAL-URL:https://mosaicclassical.org
X-WR-CALDESC:Events for Mosaic Classical Academy
BEGIN:VTIMEZONE
TZID:America/New_York
BEGIN:DAYLIGHT
TZOFFSETFROM:-0500
TZOFFSETTO:-0400
TZNAME:EDT
DTSTART:20260308T070000
END:DAYLIGHT
BEGIN:STANDARD
TZOFFSETFROM:-0400
TZOFFSETTO:-0500
TZNAME:EST
DTSTART:20261101T060000
END:STANDARD
END:VTIMEZONE
BEGIN:VEVENT
DTSTART;VALUE=DATE:20261228
DTEND;VALUE=DATE:20261229
DTSTAMP:20260421T214328
CREATED:20260326T132755Z
LAST-MODIFIED:20260326T132755Z
UID:36556-1798416000-1798502399@mosaicclassical.org
SUMMARY:Winter Break - No School
DESCRIPTION:
URL:https://mosaicclassical.org/event/winter-break-no-school/2026-12-28/
CATEGORIES:Calendar Only
END:VEVENT
END:VCALENDAR