BEGIN:VCALENDAR
VERSION:2.0
PRODID:-//Mosaic Classical Academy - ECPv5.16.4//NONSGML v1.0//EN
CALSCALE:GREGORIAN
METHOD:PUBLISH
X-WR-CALNAME:Mosaic Classical Academy
X-ORIGINAL-URL:https://mosaicclassical.org
X-WR-CALDESC:Events for Mosaic Classical Academy
BEGIN:VTIMEZONE
TZID:America/New_York
BEGIN:DAYLIGHT
TZOFFSETFROM:-0500
TZOFFSETTO:-0400
TZNAME:EDT
DTSTART:20270314T070000
END:DAYLIGHT
BEGIN:STANDARD
TZOFFSETFROM:-0400
TZOFFSETTO:-0500
TZNAME:EST
DTSTART:20271107T060000
END:STANDARD
END:VTIMEZONE
BEGIN:VEVENT
DTSTART;VALUE=DATE:20270520
DTEND;VALUE=DATE:20270521
DTSTAMP:20260422T041122
CREATED:20260326T133136Z
LAST-MODIFIED:20260326T133136Z
UID:36573-1810771200-1810857599@mosaicclassical.org
SUMMARY:Last Day of School for Kindergarten
DESCRIPTION:
URL:https://mosaicclassical.org/event/last-day-school-kindergarten/
CATEGORIES:Calendar Only
END:VEVENT
END:VCALENDAR